BEGIN:VCALENDAR
VERSION:2.0
PRODID:-//nebreastfeeding.org//NONSGML kigkonsult.se iCalcreator 2.30.10//
CALSCALE:GREGORIAN
METHOD:PUBLISH
UID:8968e6ab-8881-47ce-8ef4-e25664f4c67d
X-WR-CALDESC:Please join us for our quarterly membership meeting\, hosted b
 y Twelve Clans Unity Hospital. You can join us in person or via zoom. The 
 education session will be from 10:00 - 11:00 am.  The member meeting will 
 follow with highlights all from 11:15am - 12:45pm.  We hope to see you the
 re and are very excited to be expanding our meeting locations!\n\nAs alway
 s\, if you would like to host\, please reach out to us and we would be hon
 ored to use your meeting space!
X-WR-RELCALID:b3df75ecd461c8bee55d490018de6c70
X-WR-TIMEZONE:America/Chicago
BEGIN:VTIMEZONE
TZID:America/Chicago
BEGIN:STANDARD
TZNAME:CST
DTSTART:20231105T020000
TZOFFSETFROM:-0500
TZOFFSETTO:-0600
RDATE:20241103T020000
RDATE:20251102T020000
END:STANDARD
BEGIN:DAYLIGHT
TZNAME:CDT
DTSTART:20240310T020000
TZOFFSETFROM:-0600
TZOFFSETTO:-0500
RDATE:20250309T020000
END:DAYLIGHT
END:VTIMEZONE
BEGIN:VEVENT
UID:5dbd5efc-f5ac-41f0-ad78-026651f04d5d
DTSTAMP:20260421T130354Z
DESCRIPTION:Please join us for our quarterly membership meeting\, hosted by
  Twelve Clans Unity Hospital. You can join us in person or via zoom. The e
 ducation session will be from 10:00 - 11:00 am.  The member meeting will f
 ollow with highlights all from 11:15am - 12:45pm.  We hope to see you ther
 e and are very excited to be expanding our meeting locations!\n\nAs always
 \, if you would like to host\, please reach out to us and we would be hono
 red to use your meeting space!
DTSTART;TZID=America/Chicago:20240806T100000
DTEND;TZID=America/Chicago:20240806T124500
LOCATION:225 South Bluff Street\, Winnebago \, NE 68071 US
SUMMARY:Quarterly  Membership Meeting
END:VEVENT
END:VCALENDAR
