BEGIN:VCALENDAR
VERSION:2.0
PRODID:-//nebreastfeeding.org//NONSGML kigkonsult.se iCalcreator 2.30.10//
CALSCALE:GREGORIAN
METHOD:PUBLISH
UID:03f0a16f-9c9e-42ae-b789-cb01a7cb75be
X-WR-CALDESC:Join us for a Quarterly update regarding the Nebraska Breastfe
 eding Coalition's events\, activities\, and programs! \n\nSpecial presenta
 tions will be announced via our member newsletter! Sign up today to stay c
 onnected.
X-WR-RELCALID:7cddbea4b9b3ec23135bd51860f68565
X-WR-TIMEZONE:America/Chicago
BEGIN:VTIMEZONE
TZID:America/Chicago
BEGIN:STANDARD
TZNAME:CST
DTSTART:20211107T020000
TZOFFSETFROM:-0500
TZOFFSETTO:-0600
RDATE:20221106T020000
END:STANDARD
BEGIN:DAYLIGHT
TZNAME:CDT
DTSTART:20220313T020000
TZOFFSETFROM:-0600
TZOFFSETTO:-0500
RDATE:20230312T020000
END:DAYLIGHT
END:VTIMEZONE
BEGIN:VEVENT
UID:a0ef9eda-5c7a-4125-a995-215e66acde8b
DTSTAMP:20260422T005857Z
DESCRIPTION:Join us for a Quarterly update regarding the Nebraska Breastfee
 ding Coalition's events\, activities\, and programs! \n\nSpecial presentat
 ions will be announced via our member newsletter! Sign up today to stay co
 nnected.
DTSTART;TZID=America/Chicago:20220503T100000
DTEND;TZID=America/Chicago:20220503T120000
LOCATION:Meet from the comfort of your own home via Zoom! Link will be prov
 ided upon registration.
SUMMARY:Quarterly Meeting
END:VEVENT
END:VCALENDAR
