BEGIN:VCALENDAR
VERSION:2.0
PRODID:-//nebreastfeeding.org//NONSGML kigkonsult.se iCalcreator 2.30.10//
CALSCALE:GREGORIAN
METHOD:PUBLISH
UID:e5903e92-5805-461a-ba2d-c8353014f6be
X-WR-CALDESC:Join us for a Quarterly update regarding the Nebraska Breastfe
 eding Coalition's events\, activities\, and programs! \n\nSpecial presenta
 tions will be announced via our member newsletter! Sign up today to stay c
 onnected. \nhttps://nebreastfeeding.org/how-to-help/become-a-member.html\n
X-WR-RELCALID:3d3e900d7c3b83c04e2bb835aecd5904
X-WR-TIMEZONE:America/Chicago
BEGIN:VTIMEZONE
TZID:America/Chicago
BEGIN:STANDARD
TZNAME:CST
DTSTART:20211107T020000
TZOFFSETFROM:-0500
TZOFFSETTO:-0600
RDATE:20221106T020000
END:STANDARD
BEGIN:DAYLIGHT
TZNAME:CDT
DTSTART:20210314T020000
TZOFFSETFROM:-0600
TZOFFSETTO:-0500
RDATE:20220313T020000
RDATE:20230312T020000
END:DAYLIGHT
END:VTIMEZONE
BEGIN:VEVENT
UID:99b7ce22-9d3f-4da6-a3e2-e93ebb7a77b3
DTSTAMP:20260419T233930Z
DESCRIPTION:Join us for a Quarterly update regarding the Nebraska Breastfee
 ding Coalition's events\, activities\, and programs! \n\nSpecial presentat
 ions will be announced via our member newsletter! Sign up today to stay co
 nnected. \nhttps://nebreastfeeding.org/how-to-help/become-a-member.html\n
DTSTART;TZID=America/Chicago:20211102T100000
DTEND;TZID=America/Chicago:20211102T120000
LOCATION:Meet from the comfort of your own home via Zoom! Link will be prov
 ided upon registration.
SUMMARY:Quarterly Meeting
END:VEVENT
END:VCALENDAR
