BEGIN:VCALENDAR
VERSION:2.0
PRODID:-//nebreastfeeding.org//NONSGML kigkonsult.se iCalcreator 2.30.10//
CALSCALE:GREGORIAN
METHOD:PUBLISH
UID:e3239136-4ded-4a3a-94f9-58cc02a21af5
X-WR-CALDESC:The August Quarterly Meeting of the Nebraska Breastfeeding Coa
 lition. 10am-12pm\n\nFeaturing speakers from Nebraska WIC\, MilkWorks\, Th
 e Asian Community and Cultural Center\, Little Moccasins at Santee Health 
 Center\, and Touch of Gold!
X-WR-RELCALID:78596ad4059390fb1ed7161e5cc01a9b
X-WR-TIMEZONE:America/Chicago
BEGIN:VTIMEZONE
TZID:America/Chicago
BEGIN:STANDARD
TZNAME:CST
DTSTART:20201101T020000
TZOFFSETFROM:-0500
TZOFFSETTO:-0600
RDATE:20211107T020000
RDATE:20221106T020000
END:STANDARD
BEGIN:DAYLIGHT
TZNAME:CDT
DTSTART:20210314T020000
TZOFFSETFROM:-0600
TZOFFSETTO:-0500
RDATE:20220313T020000
END:DAYLIGHT
END:VTIMEZONE
BEGIN:VEVENT
UID:c61c51a9-ac1b-4b8d-9b5d-ecebd3963b43
DTSTAMP:20260421T160733Z
DESCRIPTION:The August Quarterly Meeting of the Nebraska Breastfeeding Coal
 ition. 10am-12pm\n\nFeaturing speakers from Nebraska WIC\, MilkWorks\, The
  Asian Community and Cultural Center\, Little Moccasins at Santee Health C
 enter\, and Touch of Gold!
DTSTART;TZID=America/Chicago:20210803T100000
DTEND;TZID=America/Chicago:20210803T120000
LOCATION:Meet from the comfort of your own home via Zoom! Link will be prov
 ided upon registration.
SUMMARY:August Quarterly Meeting
END:VEVENT
END:VCALENDAR
