BEGIN:VCALENDAR
VERSION:2.0
PRODID:-//nebreastfeeding.org//NONSGML kigkonsult.se iCalcreator 2.30.10//
CALSCALE:GREGORIAN
METHOD:PUBLISH
UID:8a68b143-3d4b-44bc-b4f3-cda58e463519
X-WR-CALDESC:If you cannot join us in person\, connect via teleconference:
 \njoin — https://unmc.zoom.us/j/691573349\;\ndial — 1 646 876 9923\;\nmeet
 ing ID — 691 573 349. Please register to attend.
X-WR-RELCALID:3659e6280d4c1b7cf91bd7aaa22c486a
X-WR-TIMEZONE:America/Chicago
BEGIN:VTIMEZONE
TZID:America/Chicago
BEGIN:STANDARD
TZNAME:CST
DTSTART:20191103T020000
TZOFFSETFROM:-0500
TZOFFSETTO:-0600
RDATE:20201101T020000
RDATE:20211107T020000
END:STANDARD
BEGIN:DAYLIGHT
TZNAME:CDT
DTSTART:20200308T020000
TZOFFSETFROM:-0600
TZOFFSETTO:-0500
RDATE:20210314T020000
END:DAYLIGHT
END:VTIMEZONE
BEGIN:VEVENT
UID:b9a04d93-b351-43da-9b97-43f0b6896266
DTSTAMP:20260422T122236Z
DESCRIPTION:If you cannot join us in person\, connect via teleconference:\n
 join — https://unmc.zoom.us/j/691573349\;\ndial — 1 646 876 9923\;\nmeetin
 g ID — 691 573 349. Please register to attend.
DTSTART;TZID=America/Chicago:20200804T100000
DTEND;TZID=America/Chicago:20200804T120000
LOCATION:Lincoln
SUMMARY:August 2020 Quarterly Meeting
END:VEVENT
END:VCALENDAR
