BEGIN:VCALENDAR
VERSION:2.0
PRODID:-//nebreastfeeding.org//NONSGML kigkonsult.se iCalcreator 2.30.10//
CALSCALE:GREGORIAN
METHOD:PUBLISH
UID:4beeb14e-5779-44a7-a630-561725479941
X-WR-CALDESC:
X-WR-RELCALID:f44c60c36464c8c40853504f0ba1289f
X-WR-TIMEZONE:America/Chicago
BEGIN:VTIMEZONE
TZID:America/Chicago
BEGIN:STANDARD
TZNAME:CST
DTSTART:20191103T020000
TZOFFSETFROM:-0500
TZOFFSETTO:-0600
RDATE:20201101T020000
RDATE:20211107T020000
END:STANDARD
BEGIN:DAYLIGHT
TZNAME:CDT
DTSTART:20200308T020000
TZOFFSETFROM:-0600
TZOFFSETTO:-0500
RDATE:20210314T020000
END:DAYLIGHT
END:VTIMEZONE
BEGIN:VEVENT
UID:5e575a65-a28c-4ae0-a008-178c0c5e9ab3
DTSTAMP:20260422T123048Z
DESCRIPTION:
DTSTART;TZID=America/Chicago:20200801T000000
DTEND;TZID=America/Chicago:20200807T235900
LOCATION:
SUMMARY:World Breastfeeding Week!
END:VEVENT
END:VCALENDAR
