BEGIN:VCALENDAR
VERSION:2.0
PRODID:-//nebreastfeeding.org//NONSGML kigkonsult.se iCalcreator 2.30.10//
CALSCALE:GREGORIAN
METHOD:PUBLISH
UID:0f7f10f3-988b-4dfa-9600-99d0f80a7282
X-WR-CALDESC:Can't make it in person? Attend our teleconference. \nJoin via
  this link: https://unmc.zoom.us/j/691573349.\nDial: +1 646 876 9923.\nMee
 ting ID: 691 573 349.
X-WR-RELCALID:d31596cc3beaf6a7912df2cfb7406a71
X-WR-TIMEZONE:America/Chicago
BEGIN:VTIMEZONE
TZID:America/Chicago
BEGIN:STANDARD
TZNAME:CST
DTSTART:20191103T020000
TZOFFSETFROM:-0500
TZOFFSETTO:-0600
RDATE:20201101T020000
END:STANDARD
BEGIN:DAYLIGHT
TZNAME:CDT
DTSTART:20190310T020000
TZOFFSETFROM:-0600
TZOFFSETTO:-0500
RDATE:20200308T020000
RDATE:20210314T020000
END:DAYLIGHT
END:VTIMEZONE
BEGIN:VEVENT
UID:5b0a536f-d639-4fba-bf96-750155d9bad2
DTSTAMP:20260422T174950Z
DESCRIPTION:Can't make it in person? Attend our teleconference. \nJoin via 
 this link: https://unmc.zoom.us/j/691573349.\nDial: +1 646 876 9923.\nMeet
 ing ID: 691 573 349.
DTSTART;TZID=America/Chicago:20200204T100000
DTEND;TZID=America/Chicago:20200204T120000
LOCATION:CHI Health Creighton University Medical Center - Bergan Mercy\, 77
 10 Mercy Road\, Omaha\, NE
SUMMARY:February 2020 Quarterly Meeting
END:VEVENT
END:VCALENDAR
