BEGIN:VCALENDAR
VERSION:2.0
PRODID:-//nebreastfeeding.org//NONSGML kigkonsult.se iCalcreator 2.30.10//
CALSCALE:GREGORIAN
METHOD:PUBLISH
UID:6e359600-b4b0-473d-bdaf-624542cb2a6a
X-WR-CALDESC:Can't make it in person? Attend our teleconference. \nJoin via
  this link: https://unmc.zoom.us/j/4618359933.\nDial: +1 646 876 9923.\nMe
 eting ID: 461 835 9933.
X-WR-RELCALID:c17cb14086be54bddd45b94d66773e4b
X-WR-TIMEZONE:America/Chicago
BEGIN:VTIMEZONE
TZID:America/Chicago
BEGIN:STANDARD
TZNAME:CST
DTSTART:20191103T020000
TZOFFSETFROM:-0500
TZOFFSETTO:-0600
RDATE:20201101T020000
END:STANDARD
BEGIN:DAYLIGHT
TZNAME:CDT
DTSTART:20190310T020000
TZOFFSETFROM:-0600
TZOFFSETTO:-0500
RDATE:20200308T020000
RDATE:20210314T020000
END:DAYLIGHT
END:VTIMEZONE
BEGIN:VEVENT
UID:3f7f3190-696e-42bd-bec8-df2e042c3e48
DTSTAMP:20260422T130429Z
DESCRIPTION:Can't make it in person? Attend our teleconference. \nJoin via 
 this link: https://unmc.zoom.us/j/4618359933.\nDial: +1 646 876 9923.\nMee
 ting ID: 461 835 9933.
DTSTART;TZID=America/Chicago:20191105T100000
DTEND;TZID=America/Chicago:20191105T120000
LOCATION:Nebraska Safety Council\, 3270 Folkways Blvd.\, Lincoln\, Founders
  Classroom on the first floor
SUMMARY:November 2019 Quarterly Meeting
END:VEVENT
END:VCALENDAR
