BEGIN:VCALENDAR
VERSION:2.0
PRODID:-//nebreastfeeding.org//NONSGML kigkonsult.se iCalcreator 2.30.10//
CALSCALE:GREGORIAN
METHOD:PUBLISH
UID:83e4389e-26f7-4ebb-b5b1-8aa6607a33f7
X-WR-CALDESC:The Nebraska Breastfeeding Coalition invites all Community Bre
 astfeeding Initiative (CBI) stakeholders to attend an evening of food and 
 conversation. \n\nThe dinner will take place the evening before the Olsen 
 Center Breastfeeding Conference. The first 25 individuals to sign up will 
 receive free registration to the Olsen Center Breastfeeding Conference on 
 August 28\, a $115 value. \n\nThe evening will include a social hour for n
 etworking\, complimentary dinner and community panel that will be discussi
 ng 'Breastfeeding Barriers in Nebraska: A Community Perspective'. Come and
  connect with colleagues from across the state to learn from one another a
 nd share best practices for supporting Nebraska mothers in their breastfee
 ding journeys.\n
X-WR-RELCALID:cfe9b21c0e1a332d55c9494d218630c0
X-WR-TIMEZONE:America/Chicago
BEGIN:VTIMEZONE
TZID:America/Chicago
BEGIN:STANDARD
TZNAME:CST
DTSTART:20181104T020000
TZOFFSETFROM:-0500
TZOFFSETTO:-0600
RDATE:20191103T020000
RDATE:20201101T020000
END:STANDARD
BEGIN:DAYLIGHT
TZNAME:CDT
DTSTART:20190310T020000
TZOFFSETFROM:-0600
TZOFFSETTO:-0500
RDATE:20200308T020000
END:DAYLIGHT
END:VTIMEZONE
BEGIN:VEVENT
UID:a7cf42ea-6e5f-4f47-8485-0d2e4655a923
DTSTAMP:20260422T113211Z
DESCRIPTION:The Nebraska Breastfeeding Coalition invites all Community Brea
 stfeeding Initiative (CBI) stakeholders to attend an evening of food and c
 onversation. \n\nThe dinner will take place the evening before the Olsen C
 enter Breastfeeding Conference. The first 25 individuals to sign up will r
 eceive free registration to the Olsen Center Breastfeeding Conference on A
 ugust 28\, a $115 value. \n\nThe evening will include a social hour for ne
 tworking\, complimentary dinner and community panel that will be discussin
 g 'Breastfeeding Barriers in Nebraska: A Community Perspective'. Come and 
 connect with colleagues from across the state to learn from one another an
 d share best practices for supporting Nebraska mothers in their breastfeed
 ing journeys.\n
DTSTART;TZID=America/Chicago:20190827T170000
DTEND;TZID=America/Chicago:20190827T203000
LOCATION:Embassy Suites La Vista Conference Center\, 12520 Westport Pkwy\, 
 La Vista\, NE 68128
SUMMARY:Community Breastfeeding Initiative Networking Event
END:VEVENT
END:VCALENDAR
