BEGIN:VCALENDAR
VERSION:2.0
PRODID:-//nebreastfeeding.org//NONSGML kigkonsult.se iCalcreator 2.30.10//
CALSCALE:GREGORIAN
METHOD:PUBLISH
UID:45734f98-57a3-4cf0-bff5-f0d77948b9cf
X-WR-CALDESC:Bergan Mercy Medical Center\, 7500 Mercy Rd\, Omaha\, NE 68124
 .\n\nWe will meet in the Monin Gallagher Conference room on the lobby leve
 l of the Maternity Pavilion.  \n
X-WR-RELCALID:3b01993091f6f23bff97e0df1b0cfb8c
X-WR-TIMEZONE:America/Chicago
BEGIN:VTIMEZONE
TZID:America/Chicago
BEGIN:STANDARD
TZNAME:CST
DTSTART:20181104T020000
TZOFFSETFROM:-0500
TZOFFSETTO:-0600
RDATE:20191103T020000
RDATE:20201101T020000
END:STANDARD
BEGIN:DAYLIGHT
TZNAME:CDT
DTSTART:20190310T020000
TZOFFSETFROM:-0600
TZOFFSETTO:-0500
RDATE:20200308T020000
END:DAYLIGHT
END:VTIMEZONE
BEGIN:VEVENT
UID:7443823c-3341-4c1e-8648-b0f35920fd2b
DTSTAMP:20260422T112933Z
DESCRIPTION:Bergan Mercy Medical Center\, 7500 Mercy Rd\, Omaha\, NE 68124.
 \n\nWe will meet in the Monin Gallagher Conference room on the lobby level
  of the Maternity Pavilion.  \n
DTSTART;TZID=America/Chicago:20190806T100000
DTEND;TZID=America/Chicago:20190806T120000
LOCATION:Omaha\, NE
SUMMARY:August 2019 Quarterly Meeting
END:VEVENT
END:VCALENDAR
