BEGIN:VCALENDAR
VERSION:2.0
PRODID:-//nebreastfeeding.org//NONSGML kigkonsult.se iCalcreator 2.30.10//
CALSCALE:GREGORIAN
METHOD:PUBLISH
UID:2dbe0096-6661-4520-bc13-b25ce9730f99
X-WR-CALDESC:
X-WR-RELCALID:9779c9a616611c6d5935e56055e3314d
X-WR-TIMEZONE:America/Chicago
BEGIN:VTIMEZONE
TZID:America/Chicago
BEGIN:STANDARD
TZNAME:CST
DTSTART:20181104T020000
TZOFFSETFROM:-0500
TZOFFSETTO:-0600
RDATE:20191103T020000
RDATE:20201101T020000
END:STANDARD
BEGIN:DAYLIGHT
TZNAME:CDT
DTSTART:20190310T020000
TZOFFSETFROM:-0600
TZOFFSETTO:-0500
RDATE:20200308T020000
END:DAYLIGHT
END:VTIMEZONE
BEGIN:VEVENT
UID:26efd37b-8f7f-4d63-90a7-c7027234365d
DTSTAMP:20260422T113345Z
DESCRIPTION:
DTSTART;TZID=America/Chicago:20190801T000000
DTEND;TZID=America/Chicago:20190807T235900
LOCATION:
SUMMARY:World Breastfeeding Week!
END:VEVENT
END:VCALENDAR
