BEGIN:VCALENDAR
VERSION:2.0
PRODID:-//nebreastfeeding.org//NONSGML kigkonsult.se iCalcreator 2.30.10//
CALSCALE:GREGORIAN
METHOD:PUBLISH
UID:aa14ba42-a6b5-4e0f-9628-a1f66c4fb743
X-WR-CALDESC:York General Hospital\, 2222 N Lincoln Ave\, York\, NE 68467.
 \n\nMeeting Room: MOB LL (Lower Level of the hospital).\n\nDirections to t
 he room:  Come in the front entrance of the hospital and take the elevator
  down.  They have signs guiding you back to the meeting room MOB LL.
X-WR-RELCALID:4c0799f1791f2083ea555e55010bd57a
X-WR-TIMEZONE:America/Chicago
BEGIN:VTIMEZONE
TZID:America/Chicago
BEGIN:STANDARD
TZNAME:CST
DTSTART:20181104T020000
TZOFFSETFROM:-0500
TZOFFSETTO:-0600
RDATE:20191103T020000
RDATE:20201101T020000
END:STANDARD
BEGIN:DAYLIGHT
TZNAME:CDT
DTSTART:20190310T020000
TZOFFSETFROM:-0600
TZOFFSETTO:-0500
RDATE:20200308T020000
END:DAYLIGHT
END:VTIMEZONE
BEGIN:VEVENT
UID:14f13117-fe7d-4afa-97fa-c2819ba78788
DTSTAMP:20260422T160848Z
DESCRIPTION:York General Hospital\, 2222 N Lincoln Ave\, York\, NE 68467.\n
 \nMeeting Room: MOB LL (Lower Level of the hospital).\n\nDirections to the
  room:  Come in the front entrance of the hospital and take the elevator d
 own.  They have signs guiding you back to the meeting room MOB LL.
DTSTART;TZID=America/Chicago:20190507T100000
DTEND;TZID=America/Chicago:20190507T120000
LOCATION:York\, NE
SUMMARY:May 2019 Quarterly Meeting
END:VEVENT
END:VCALENDAR
