BEGIN:VCALENDAR
VERSION:2.0
PRODID:-//nebreastfeeding.org//NONSGML kigkonsult.se iCalcreator 2.30.10//
CALSCALE:GREGORIAN
METHOD:PUBLISH
UID:60a5e713-5287-4cfe-a76c-c7d2555f881c
X-WR-CALDESC:
X-WR-RELCALID:83f49b22cfeb6d302e2cf2fa4867c428
X-WR-TIMEZONE:America/Chicago
BEGIN:VTIMEZONE
TZID:America/Chicago
BEGIN:STANDARD
TZNAME:CST
DTSTART:20181104T020000
TZOFFSETFROM:-0500
TZOFFSETTO:-0600
RDATE:20191103T020000
END:STANDARD
BEGIN:DAYLIGHT
TZNAME:CDT
DTSTART:20180311T020000
TZOFFSETFROM:-0600
TZOFFSETTO:-0500
RDATE:20190310T020000
RDATE:20200308T020000
END:DAYLIGHT
END:VTIMEZONE
BEGIN:VEVENT
UID:4bae69d2-a3d8-4c04-a816-d38d84b35c54
DTSTAMP:20260422T212502Z
DESCRIPTION:
DTSTART;TZID=America/Chicago:20190205T100000
DTEND;TZID=America/Chicago:20190205T120000
LOCATION:Lincoln Medical Education Partnership Building\, 4600 Valley Road\
 , Lincoln\, NE 68510
SUMMARY:February Quarterly Meeting
END:VEVENT
END:VCALENDAR
