BEGIN:VCALENDAR
VERSION:2.0
PRODID:-//nebreastfeeding.org//NONSGML kigkonsult.se iCalcreator 2.30.10//
CALSCALE:GREGORIAN
METHOD:PUBLISH
UID:560a46d6-83b9-42c3-8211-a5ebb3106594
X-WR-CALDESC:Join us for a very special Quarterly Coalition Meeting - \nwe 
 will begin the process of our next two year strategic plan.  \nWe want YOU
 R voice to be apart of shaping our future. \n\nGo in the Medical Building 
 doors on the North\, \ntake the elevator to the second floor\, \nand we wi
 ll be in the Abbott/Bernard Room.
X-WR-RELCALID:7026c637d9e23d2eccda3fba34d59351
X-WR-TIMEZONE:America/Chicago
BEGIN:VTIMEZONE
TZID:America/Chicago
BEGIN:STANDARD
TZNAME:CST
DTSTART:20181104T020000
TZOFFSETFROM:-0500
TZOFFSETTO:-0600
RDATE:20191103T020000
END:STANDARD
BEGIN:DAYLIGHT
TZNAME:CDT
DTSTART:20180311T020000
TZOFFSETFROM:-0600
TZOFFSETTO:-0500
RDATE:20190310T020000
RDATE:20200308T020000
END:DAYLIGHT
END:VTIMEZONE
BEGIN:VEVENT
UID:e4dfb25b-f860-4a99-84c8-d29e20acf539
DTSTAMP:20260423T024650Z
DESCRIPTION:Join us for a very special Quarterly Coalition Meeting - \nwe w
 ill begin the process of our next two year strategic plan.  \nWe want YOUR
  voice to be apart of shaping our future. \n\nGo in the Medical Building d
 oors on the North\, \ntake the elevator to the second floor\, \nand we wil
 l be in the Abbott/Bernard Room.
DTSTART;TZID=America/Chicago:20181106T100000
DTEND;TZID=America/Chicago:20181106T120000
LOCATION:Methodist Women's Hospital 707 N 190th Plaza\, Elkhorn\, NE 68022
SUMMARY:Quarterly Coalition Meeting - SPECIAL EVENT
END:VEVENT
END:VCALENDAR
