BEGIN:VCALENDAR
VERSION:2.0
PRODID:-//nebreastfeeding.org//NONSGML kigkonsult.se iCalcreator 2.30.10//
CALSCALE:GREGORIAN
METHOD:PUBLISH
UID:18bc2fdd-5489-411c-bc85-e1df8afb7353
X-WR-CALDESC:Join us for our August Quarterly Meeting!  Take the elevator t
 o the lower level and we are in the large conference room on the right han
 d side.
X-WR-RELCALID:2b2c2aa41ccbaf4bd536c8329c4f5c2d
X-WR-TIMEZONE:America/Chicago
BEGIN:VTIMEZONE
TZID:America/Chicago
BEGIN:STANDARD
TZNAME:CST
DTSTART:20171105T020000
TZOFFSETFROM:-0500
TZOFFSETTO:-0600
RDATE:20181104T020000
RDATE:20191103T020000
END:STANDARD
BEGIN:DAYLIGHT
TZNAME:CDT
DTSTART:20180311T020000
TZOFFSETFROM:-0600
TZOFFSETTO:-0500
RDATE:20190310T020000
END:DAYLIGHT
END:VTIMEZONE
BEGIN:VEVENT
UID:e466c54f-07ba-40c1-ad28-96cde966f50a
DTSTAMP:20260423T072654Z
DESCRIPTION:Join us for our August Quarterly Meeting!  Take the elevator to
  the lower level and we are in the large conference room on the right hand
  side.
DTSTART;TZID=America/Chicago:20180807T100000
DTEND;TZID=America/Chicago:20180807T120000
LOCATION:Lincoln Lancaster County Health Department\, 3140 N Street\, Linco
 ln\, NE 68510
SUMMARY:Quarterly Coalition Meeting
END:VEVENT
END:VCALENDAR
