BEGIN:VCALENDAR
VERSION:2.0
PRODID:-//nebreastfeeding.org//NONSGML kigkonsult.se iCalcreator 2.30.10//
CALSCALE:GREGORIAN
METHOD:PUBLISH
UID:54681ace-5628-448b-bbc1-b44df3b8340e
X-WR-CALDESC:Join us for our May Quarterly Meeting!  Enter through the Main
  Entrance on the Southeast side of the building.  There will be a voluntee
 r at the desk that you can ask to point you in the direction of Health Par
 k Plaza.  Take the elevator to the third floor of Health Park Plaza.  When
  you get off of the elevators on third floor\, take a left and look for si
 gnage.  We will be in HPP3.
X-WR-RELCALID:affa6a728022bbc873e0405bcff5e6bd
X-WR-TIMEZONE:America/Chicago
BEGIN:VTIMEZONE
TZID:America/Chicago
BEGIN:STANDARD
TZNAME:CST
DTSTART:20171105T020000
TZOFFSETFROM:-0500
TZOFFSETTO:-0600
RDATE:20181104T020000
END:STANDARD
BEGIN:DAYLIGHT
TZNAME:CDT
DTSTART:20180311T020000
TZOFFSETFROM:-0600
TZOFFSETTO:-0500
RDATE:20190310T020000
END:DAYLIGHT
END:VTIMEZONE
BEGIN:VEVENT
UID:4f73b9f2-253d-43dd-8ff8-b057eb72d6b2
DTSTAMP:20260423T120114Z
DESCRIPTION:Join us for our May Quarterly Meeting!  Enter through the Main 
 Entrance on the Southeast side of the building.  There will be a volunteer
  at the desk that you can ask to point you in the direction of Health Park
  Plaza.  Take the elevator to the third floor of Health Park Plaza.  When 
 you get off of the elevators on third floor\, take a left and look for sig
 nage.  We will be in HPP3.
DTSTART;TZID=America/Chicago:20180501T100000
DTEND;TZID=America/Chicago:20180501T120000
LOCATION:Fremont Health Medical Center 450 E 23rd St Fremont\, NE 68025
SUMMARY:May 2018 Quarterly Meeting
END:VEVENT
END:VCALENDAR
