BEGIN:VCALENDAR
VERSION:2.0
PRODID:-//nebreastfeeding.org//NONSGML kigkonsult.se iCalcreator 2.30.10//
CALSCALE:GREGORIAN
METHOD:PUBLISH
UID:b8df1a41-6a1b-42f2-b2ed-ee5b16fd9887
X-WR-CALDESC:Join Linda J. Smith\, IBCLC\, four her six day comprehensive L
 actation Management Exam Prep.  In partnership with CHI Health\, we will b
 e offering partial scholarships to cover the cost of the course.  Some tra
 vel expenses will be provided as well thanks to the Department of Health a
 nd Human Services.
X-WR-RELCALID:580746dc48997c3059690751239b88d8
X-WR-TIMEZONE:America/Chicago
BEGIN:VTIMEZONE
TZID:America/Chicago
BEGIN:STANDARD
TZNAME:CST
DTSTART:20171105T020000
TZOFFSETFROM:-0500
TZOFFSETTO:-0600
RDATE:20181104T020000
END:STANDARD
BEGIN:DAYLIGHT
TZNAME:CDT
DTSTART:20180311T020000
TZOFFSETFROM:-0600
TZOFFSETTO:-0500
RDATE:20190310T020000
END:DAYLIGHT
END:VTIMEZONE
BEGIN:VEVENT
UID:875dd60f-0b2d-4400-9564-aef5c4d2e339
DTSTAMP:20260423T134408Z
DESCRIPTION:Join Linda J. Smith\, IBCLC\, four her six day comprehensive La
 ctation Management Exam Prep.  In partnership with CHI Health\, we will be
  offering partial scholarships to cover the cost of the course.  Some trav
 el expenses will be provided as well thanks to the Department of Health an
 d Human Services.
DTSTART;TZID=America/Chicago:20180409T000000
DTEND;TZID=America/Chicago:20180414T235900
LOCATION:CHI Lakeside Hospital\, 16901 Lakeside Hills Ct\, Omaha\, NE 68130
SUMMARY:Lactation Management Exam Prep Course
END:VEVENT
END:VCALENDAR
