BEGIN:VCALENDAR
VERSION:2.0
PRODID:-//nebreastfeeding.org//NONSGML kigkonsult.se iCalcreator 2.30.10//
CALSCALE:GREGORIAN
METHOD:PUBLISH
UID:b39cda99-5753-4133-a238-b4fa6583d07e
X-WR-CALDESC:In partnership with CHI Health and Nebraska Department of Heal
 th and Human Services\, we're pleased to bring this wonderful course back 
 to Nebraska!  Up to 75 full scholarships and travel will be available.  Re
 gistration will be available this fall!
X-WR-RELCALID:5103bc670e781fb96cd8297bab4d1a7c
X-WR-TIMEZONE:America/Chicago
BEGIN:VTIMEZONE
TZID:America/Chicago
BEGIN:STANDARD
TZNAME:CST
DTSTART:20171105T020000
TZOFFSETFROM:-0500
TZOFFSETTO:-0600
RDATE:20181104T020000
END:STANDARD
BEGIN:DAYLIGHT
TZNAME:CDT
DTSTART:20170312T020000
TZOFFSETFROM:-0600
TZOFFSETTO:-0500
RDATE:20180311T020000
RDATE:20190310T020000
END:DAYLIGHT
END:VTIMEZONE
BEGIN:VEVENT
UID:2041f513-8ff6-4696-af17-ccf68e8a78e9
DTSTAMP:20260423T172300Z
DESCRIPTION:In partnership with CHI Health and Nebraska Department of Healt
 h and Human Services\, we're pleased to bring this wonderful course back t
 o Nebraska!  Up to 75 full scholarships and travel will be available.  Reg
 istration will be available this fall!
DTSTART;TZID=America/Chicago:20180219T080000
DTEND;TZID=America/Chicago:20180223T170000
LOCATION:Lincoln Lancaster County Health Department\, 3140 N Street\, Linco
 ln\, NE 68510
SUMMARY:Certified Lactation Counselor (CLC) Training
END:VEVENT
END:VCALENDAR
