BEGIN:VCALENDAR
VERSION:2.0
PRODID:-//nebreastfeeding.org//NONSGML kigkonsult.se iCalcreator 2.30.10//
CALSCALE:GREGORIAN
METHOD:PUBLISH
UID:1c333818-357a-4f76-a926-041fab667456
X-WR-CALDESC:The meeting will take place in Conference Room A.\n\nDirection
 s: \nVisitor parking is location in front (East side) of Hospital.  \nEnte
 r at the Main Hospital Entrance.\nStaff will direct you to Conference Room
  A or you can proceed down the stairs at left and take a sharp left turn a
 t the bottom of the stairs into the Conference Center.
X-WR-RELCALID:f21160f5bbc7fea91be340c808ff7e20
X-WR-TIMEZONE:America/Chicago
BEGIN:VTIMEZONE
TZID:America/Chicago
BEGIN:STANDARD
TZNAME:CST
DTSTART:20171105T020000
TZOFFSETFROM:-0500
TZOFFSETTO:-0600
RDATE:20181104T020000
END:STANDARD
BEGIN:DAYLIGHT
TZNAME:CDT
DTSTART:20170312T020000
TZOFFSETFROM:-0600
TZOFFSETTO:-0500
RDATE:20180311T020000
RDATE:20190310T020000
END:DAYLIGHT
END:VTIMEZONE
BEGIN:VEVENT
UID:0d6fc435-453b-4781-a9d6-1df8745a6d5b
DTSTAMP:20260423T172727Z
DESCRIPTION:The meeting will take place in Conference Room A.\n\nDirections
 : \nVisitor parking is location in front (East side) of Hospital.  \nEnter
  at the Main Hospital Entrance.\nStaff will direct you to Conference Room 
 A or you can proceed down the stairs at left and take a sharp left turn at
  the bottom of the stairs into the Conference Center.
DTSTART;TZID=America/Chicago:20180206T100000
DTEND;TZID=America/Chicago:20180206T120000
LOCATION:CHI Health Lakeside Hospital\, 16901 Lakeside Hills Ct\, Omaha\, N
 E 68130
SUMMARY:Quarterly Coalition Meeting
END:VEVENT
END:VCALENDAR
