BEGIN:VCALENDAR
VERSION:2.0
PRODID:-//nebreastfeeding.org//NONSGML kigkonsult.se iCalcreator 2.30.10//
CALSCALE:GREGORIAN
METHOD:PUBLISH
UID:e6f12eb6-b05e-4fac-9747-9d6b67046a1d
X-WR-CALDESC:
X-WR-RELCALID:5cf4988b4963381745287fcc4fba9f6c
X-WR-TIMEZONE:America/Chicago
BEGIN:VTIMEZONE
TZID:America/Chicago
BEGIN:STANDARD
TZNAME:CST
DTSTART:20171105T020000
TZOFFSETFROM:-0500
TZOFFSETTO:-0600
RDATE:20181104T020000
END:STANDARD
BEGIN:DAYLIGHT
TZNAME:CDT
DTSTART:20170312T020000
TZOFFSETFROM:-0600
TZOFFSETTO:-0500
RDATE:20180311T020000
RDATE:20190310T020000
END:DAYLIGHT
END:VTIMEZONE
BEGIN:VEVENT
UID:23588522-93c8-4331-9de7-529707611957
DTSTAMP:20260423T172727Z
DESCRIPTION:
DTSTART;TZID=America/Chicago:20180206T120000
DTEND;TZID=America/Chicago:20180206T140000
LOCATION:CHI Health Lakeside Hospital
SUMMARY:Leadership Team Meeting
END:VEVENT
END:VCALENDAR
