BEGIN:VCALENDAR
VERSION:2.0
PRODID:-//nebreastfeeding.org//NONSGML kigkonsult.se iCalcreator 2.30.10//
CALSCALE:GREGORIAN
METHOD:PUBLISH
UID:4b2ae19f-104b-423f-ab0e-ac4b369f9f79
X-WR-CALDESC:
X-WR-RELCALID:7541db709d24334ff11b6f0892dc22ed
X-WR-TIMEZONE:America/Chicago
BEGIN:VTIMEZONE
TZID:America/Chicago
BEGIN:STANDARD
TZNAME:CST
DTSTART:20171105T020000
TZOFFSETFROM:-0500
TZOFFSETTO:-0600
RDATE:20181104T020000
END:STANDARD
BEGIN:DAYLIGHT
TZNAME:CDT
DTSTART:20170312T020000
TZOFFSETFROM:-0600
TZOFFSETTO:-0500
RDATE:20180311T020000
RDATE:20190310T020000
END:DAYLIGHT
END:VTIMEZONE
BEGIN:VEVENT
UID:fa763e31-29df-45d5-b709-5152ed137e26
DTSTAMP:20260423T205956Z
DESCRIPTION:
DTSTART;TZID=America/Chicago:20171205T140000
DTEND;TZID=America/Chicago:20171205T150000
LOCATION:
SUMMARY:Monthly Leadership Team Call
END:VEVENT
END:VCALENDAR
