BEGIN:VCALENDAR
VERSION:2.0
PRODID:-//nebreastfeeding.org//NONSGML kigkonsult.se iCalcreator 2.30.10//
CALSCALE:GREGORIAN
METHOD:PUBLISH
UID:e0675576-6171-461a-be6d-939bbbdaa400
X-WR-CALDESC:
X-WR-RELCALID:998a3b5329469c4467f295b97938d897
X-WR-TIMEZONE:America/Chicago
BEGIN:VTIMEZONE
TZID:America/Chicago
BEGIN:STANDARD
TZNAME:CST
DTSTART:20171105T020000
TZOFFSETFROM:-0500
TZOFFSETTO:-0600
RDATE:20181104T020000
END:STANDARD
BEGIN:DAYLIGHT
TZNAME:CDT
DTSTART:20170312T020000
TZOFFSETFROM:-0600
TZOFFSETTO:-0500
RDATE:20180311T020000
RDATE:20190310T020000
END:DAYLIGHT
END:VTIMEZONE
BEGIN:VEVENT
UID:297c3d06-a917-49aa-880e-dd9d8d794ea1
DTSTAMP:20260424T145226Z
DESCRIPTION:
DTSTART;TZID=America/Chicago:20171107T120000
DTEND;TZID=America/Chicago:20171107T140000
LOCATION:Lincoln Medical Education Partnership Building\, Lincoln\, NE
SUMMARY:Leadership Team Meeting
END:VEVENT
END:VCALENDAR
