BEGIN:VCALENDAR
VERSION:2.0
PRODID:-//nebreastfeeding.org//NONSGML kigkonsult.se iCalcreator 2.30.10//
CALSCALE:GREGORIAN
METHOD:PUBLISH
UID:55622d87-afbe-40c0-a936-1fb03dc69f38
X-WR-CALDESC:
X-WR-RELCALID:42d250dc44d7c5c1eee1bc69c120d267
X-WR-TIMEZONE:America/Chicago
BEGIN:VTIMEZONE
TZID:America/Chicago
BEGIN:STANDARD
TZNAME:CST
DTSTART:20161106T020000
TZOFFSETFROM:-0500
TZOFFSETTO:-0600
RDATE:20171105T020000
RDATE:20181104T020000
END:STANDARD
BEGIN:DAYLIGHT
TZNAME:CDT
DTSTART:20170312T020000
TZOFFSETFROM:-0600
TZOFFSETTO:-0500
RDATE:20180311T020000
RDATE:20190310T020000
END:DAYLIGHT
END:VTIMEZONE
BEGIN:VEVENT
UID:1255d0dc-dba3-4067-a65f-f3066294146e
DTSTAMP:20260424T163453Z
DESCRIPTION:
DTSTART;TZID=America/Chicago:20171003T140000
DTEND;TZID=America/Chicago:20171003T150000
LOCATION:
SUMMARY:Monthly Leadership Team Call
END:VEVENT
END:VCALENDAR
