BEGIN:VCALENDAR
VERSION:2.0
PRODID:-//nebreastfeeding.org//NONSGML kigkonsult.se iCalcreator 2.30.10//
CALSCALE:GREGORIAN
METHOD:PUBLISH
UID:d99281c1-a344-45e5-a36b-270447c55c68
X-WR-CALDESC:
X-WR-RELCALID:cc9667ae1d7670653ff3c9a17e990f6c
X-WR-TIMEZONE:America/Chicago
BEGIN:VTIMEZONE
TZID:America/Chicago
BEGIN:STANDARD
TZNAME:CST
DTSTART:20161106T020000
TZOFFSETFROM:-0500
TZOFFSETTO:-0600
RDATE:20171105T020000
RDATE:20181104T020000
END:STANDARD
BEGIN:DAYLIGHT
TZNAME:CDT
DTSTART:20170312T020000
TZOFFSETFROM:-0600
TZOFFSETTO:-0500
RDATE:20180311T020000
END:DAYLIGHT
END:VTIMEZONE
BEGIN:VEVENT
UID:18bd6dea-310d-48f5-8add-975385ea99ff
DTSTAMP:20260424T201020Z
DESCRIPTION:
DTSTART;TZID=America/Chicago:20170823T080000
DTEND;TZID=America/Chicago:20170823T160000
LOCATION:
SUMMARY:Breastfeeding: Baby's Natural Choice Conference
END:VEVENT
END:VCALENDAR
