BEGIN:VCALENDAR
VERSION:2.0
PRODID:-//nebreastfeeding.org//NONSGML kigkonsult.se iCalcreator 2.30.10//
CALSCALE:GREGORIAN
METHOD:PUBLISH
UID:c2d0808b-7e25-482f-a8b5-c7ef4a48685f
X-WR-CALDESC:
X-WR-RELCALID:0626b66db49f447700a57a37cebc9ada
X-WR-TIMEZONE:America/Chicago
BEGIN:VTIMEZONE
TZID:America/Chicago
BEGIN:STANDARD
TZNAME:CST
DTSTART:20161106T020000
TZOFFSETFROM:-0500
TZOFFSETTO:-0600
RDATE:20171105T020000
RDATE:20181104T020000
END:STANDARD
BEGIN:DAYLIGHT
TZNAME:CDT
DTSTART:20170312T020000
TZOFFSETFROM:-0600
TZOFFSETTO:-0500
RDATE:20180311T020000
END:DAYLIGHT
END:VTIMEZONE
BEGIN:VEVENT
UID:ea4cad2f-35fe-4ae1-9aab-0f6ec712d6b6
DTSTAMP:20260424T200731Z
DESCRIPTION:
DTSTART;TZID=America/Chicago:20170801T120000
DTEND;TZID=America/Chicago:20170801T140000
LOCATION:Wellcare\, 2910 K Street Omaha\, NE 68107
SUMMARY:Leadership Team Meeting
END:VEVENT
END:VCALENDAR
