BEGIN:VCALENDAR
VERSION:2.0
PRODID:-//nebreastfeeding.org//NONSGML kigkonsult.se iCalcreator 2.30.10//
CALSCALE:GREGORIAN
METHOD:PUBLISH
UID:e75cfd0c-3568-4af0-a5dd-cbae193a412f
X-WR-CALDESC:
X-WR-RELCALID:847ab3428a2f0cbab29f1ee2a9910df5
X-WR-TIMEZONE:America/Chicago
BEGIN:VTIMEZONE
TZID:America/Chicago
BEGIN:STANDARD
TZNAME:CST
DTSTART:20161106T020000
TZOFFSETFROM:-0500
TZOFFSETTO:-0600
RDATE:20171105T020000
RDATE:20181104T020000
END:STANDARD
BEGIN:DAYLIGHT
TZNAME:CDT
DTSTART:20170312T020000
TZOFFSETFROM:-0600
TZOFFSETTO:-0500
RDATE:20180311T020000
END:DAYLIGHT
END:VTIMEZONE
BEGIN:VEVENT
UID:ad6d9aa0-3185-41bc-8320-7b15ffac781f
DTSTAMP:20260424T235327Z
DESCRIPTION:
DTSTART;TZID=America/Chicago:20170613T100000
DTEND;TZID=America/Chicago:20170613T150000
LOCATION:
SUMMARY:Leadership Team Strategic Planning
END:VEVENT
END:VCALENDAR
