BEGIN:VCALENDAR
VERSION:2.0
PRODID:-//nebreastfeeding.org//NONSGML kigkonsult.se iCalcreator 2.30.10//
CALSCALE:GREGORIAN
METHOD:PUBLISH
UID:61fa4f38-c390-46b6-9e9e-56200d7c4ab1
X-WR-CALDESC:If you are interested in joining this group\, contact Amy.
X-WR-RELCALID:62244d33024f8c9ba39bf12dcdb09dcd
X-WR-TIMEZONE:America/Chicago
BEGIN:VTIMEZONE
TZID:America/Chicago
BEGIN:STANDARD
TZNAME:CST
DTSTART:20161106T020000
TZOFFSETFROM:-0500
TZOFFSETTO:-0600
RDATE:20171105T020000
RDATE:20181104T020000
END:STANDARD
BEGIN:DAYLIGHT
TZNAME:CDT
DTSTART:20170312T020000
TZOFFSETFROM:-0600
TZOFFSETTO:-0500
RDATE:20180311T020000
END:DAYLIGHT
END:VTIMEZONE
BEGIN:VEVENT
UID:30a24885-344e-4098-a8f9-fd36b7d74940
DTSTAMP:20260425T012553Z
DESCRIPTION:If you are interested in joining this group\, contact Amy.
DTSTART;TZID=America/Chicago:20170523T133000
DTEND;TZID=America/Chicago:20170523T143000
LOCATION:
SUMMARY:Goal 3 Empowering Moms Call
END:VEVENT
END:VCALENDAR
