BEGIN:VCALENDAR
VERSION:2.0
PRODID:-//nebreastfeeding.org//NONSGML kigkonsult.se iCalcreator 2.30.10//
CALSCALE:GREGORIAN
METHOD:PUBLISH
UID:abec680e-7654-4086-ba91-b40ec35d85f0
X-WR-CALDESC:This webinar will look at the Breastfeeding Support in the Wor
 kplace Survey taken by over 1\,000 Nebraska mothers. It will summarize the
  data and allow participants to determine which industries are making a mo
 ther’s return to work easier. Additionally\, this webinar will teach profe
 ssionals how to implement easy strategies within their organizations to im
 prove their employee’s experience.
X-WR-RELCALID:690e938318b9e419e40036327453912f
X-WR-TIMEZONE:America/Chicago
BEGIN:VTIMEZONE
TZID:America/Chicago
BEGIN:STANDARD
TZNAME:CST
DTSTART:20161106T020000
TZOFFSETFROM:-0500
TZOFFSETTO:-0600
RDATE:20171105T020000
RDATE:20181104T020000
END:STANDARD
BEGIN:DAYLIGHT
TZNAME:CDT
DTSTART:20170312T020000
TZOFFSETFROM:-0600
TZOFFSETTO:-0500
RDATE:20180311T020000
END:DAYLIGHT
END:VTIMEZONE
BEGIN:VEVENT
UID:a99b8411-6b00-48c1-a42b-806900bf44b9
DTSTAMP:20260425T012752Z
DESCRIPTION:This webinar will look at the Breastfeeding Support in the Work
 place Survey taken by over 1\,000 Nebraska mothers. It will summarize the 
 data and allow participants to determine which industries are making a mot
 her’s return to work easier. Additionally\, this webinar will teach profes
 sionals how to implement easy strategies within their organizations to imp
 rove their employee’s experience.
DTSTART;TZID=America/Chicago:20170516T120000
DTEND;TZID=America/Chicago:20170516T130000
LOCATION:
SUMMARY:Nebraska Breastfeeding Support in the Workplace Webinar
END:VEVENT
END:VCALENDAR
