BEGIN:VCALENDAR
VERSION:2.0
PRODID:-//nebreastfeeding.org//NONSGML kigkonsult.se iCalcreator 2.30.10//
CALSCALE:GREGORIAN
METHOD:PUBLISH
UID:f83fe7fe-4fe0-464f-a436-d327168e711d
X-WR-CALDESC:You're invited to our next Quarterly Coalition Meeting on May 
 9th at the Central District Health Department in Grand Island\, NE. \n<br>
 \nIn order for us to best prepare for the meeting\, please register for th
 is event.  \n<br>\nWhile we would love for you attend in person\, we are a
 lso going to make ReadyTalk available\, and you can select that option whe
 n you register.
X-WR-RELCALID:c0bf888e8938ddaac8bba7c9d796e8e0
X-WR-TIMEZONE:America/Chicago
BEGIN:VTIMEZONE
TZID:America/Chicago
BEGIN:STANDARD
TZNAME:CST
DTSTART:20161106T020000
TZOFFSETFROM:-0500
TZOFFSETTO:-0600
RDATE:20171105T020000
RDATE:20181104T020000
END:STANDARD
BEGIN:DAYLIGHT
TZNAME:CDT
DTSTART:20170312T020000
TZOFFSETFROM:-0600
TZOFFSETTO:-0500
RDATE:20180311T020000
END:DAYLIGHT
END:VTIMEZONE
BEGIN:VEVENT
UID:d462091e-56c1-4cea-abc8-1ba278a40c8f
DTSTAMP:20260425T012655Z
DESCRIPTION:You're invited to our next Quarterly Coalition Meeting on May 9
 th at the Central District Health Department in Grand Island\, NE. \n<br>
 \nIn order for us to best prepare for the meeting\, please register for th
 is event.  \n<br>\nWhile we would love for you attend in person\, we are a
 lso going to make ReadyTalk available\, and you can select that option whe
 n you register.
DTSTART;TZID=America/Chicago:20170509T100000
DTEND;TZID=America/Chicago:20170509T120000
LOCATION:Central District Health Department\, 1137 South Locust Grand Islan
 d\, NE 68801
SUMMARY:Quarterly Coalition Meeting
END:VEVENT
END:VCALENDAR
