BEGIN:VCALENDAR
VERSION:2.0
PRODID:-//nebreastfeeding.org//NONSGML kigkonsult.se iCalcreator 2.30.10//
CALSCALE:GREGORIAN
METHOD:PUBLISH
UID:d79cdb7c-c031-44d8-a3e1-b2e1aab15ab6
X-WR-CALDESC:
X-WR-RELCALID:82b85fd3b59439a2ec7dd357e3f6b777
X-WR-TIMEZONE:America/Chicago
BEGIN:VTIMEZONE
TZID:America/Chicago
BEGIN:STANDARD
TZNAME:CST
DTSTART:20161106T020000
TZOFFSETFROM:-0500
TZOFFSETTO:-0600
RDATE:20171105T020000
RDATE:20181104T020000
END:STANDARD
BEGIN:DAYLIGHT
TZNAME:CDT
DTSTART:20170312T020000
TZOFFSETFROM:-0600
TZOFFSETTO:-0500
RDATE:20180311T020000
END:DAYLIGHT
END:VTIMEZONE
BEGIN:VEVENT
UID:399f6e33-5e2f-4b5f-a88c-e9010960ecb4
DTSTAMP:20260425T013252Z
DESCRIPTION:
DTSTART;TZID=America/Chicago:20170509T120000
DTEND;TZID=America/Chicago:20170509T140000
LOCATION:Central District Health Department\, 1137 South Locust Grand Islan
 d\, NE 68801
SUMMARY:Leadership Team Meeting
END:VEVENT
END:VCALENDAR
