BEGIN:VCALENDAR
VERSION:2.0
PRODID:-//nebreastfeeding.org//NONSGML kigkonsult.se iCalcreator 2.30.10//
CALSCALE:GREGORIAN
METHOD:PUBLISH
UID:1c656692-8355-4b22-93e8-1821119d7708
X-WR-CALDESC:
X-WR-RELCALID:689ea3d1b84b77b08132b2e479420c30
X-WR-TIMEZONE:America/Chicago
BEGIN:VTIMEZONE
TZID:America/Chicago
BEGIN:STANDARD
TZNAME:CST
DTSTART:20161106T020000
TZOFFSETFROM:-0500
TZOFFSETTO:-0600
RDATE:20171105T020000
END:STANDARD
BEGIN:DAYLIGHT
TZNAME:CDT
DTSTART:20170312T020000
TZOFFSETFROM:-0600
TZOFFSETTO:-0500
RDATE:20180311T020000
END:DAYLIGHT
END:VTIMEZONE
BEGIN:VEVENT
UID:a9aac3e6-f023-4813-919c-8e1f055b52c6
DTSTAMP:20260425T012531Z
DESCRIPTION:
DTSTART;TZID=America/Chicago:20170502T140000
DTEND;TZID=America/Chicago:20170502T150000
LOCATION:
SUMMARY:Monthly Leadership Team Call
END:VEVENT
END:VCALENDAR
