BEGIN:VCALENDAR
VERSION:2.0
PRODID:-//nebreastfeeding.org//NONSGML kigkonsult.se iCalcreator 2.30.10//
CALSCALE:GREGORIAN
METHOD:PUBLISH
UID:8f1e4735-02b0-4daa-bdb2-39ee3c7a20df
X-WR-CALDESC:This webinar discusses the federal “Nursing Mothers’ Break Tim
 e” law\, which has specific provisions regarding worksite breastfeeding su
 pport services. It also addresses the needs of breastfeeding employees\, a
 nd practical strategies for implementing nursing support in any business. 
 Participants will also learn about resources available to help employers\,
  such as free consultations\, policy templates\, recognition awards and mo
 re.
X-WR-RELCALID:24899278396727a25ad9372c58ab32fa
X-WR-TIMEZONE:America/Chicago
BEGIN:VTIMEZONE
TZID:America/Chicago
BEGIN:STANDARD
TZNAME:CST
DTSTART:20161106T020000
TZOFFSETFROM:-0500
TZOFFSETTO:-0600
RDATE:20171105T020000
END:STANDARD
BEGIN:DAYLIGHT
TZNAME:CDT
DTSTART:20170312T020000
TZOFFSETFROM:-0600
TZOFFSETTO:-0500
RDATE:20180311T020000
END:DAYLIGHT
END:VTIMEZONE
BEGIN:VEVENT
UID:2ef9427c-b689-4e0f-a989-072b9dcd101c
DTSTAMP:20260425T031334Z
DESCRIPTION:This webinar discusses the federal “Nursing Mothers’ Break Time
 ” law\, which has specific provisions regarding worksite breastfeeding sup
 port services. It also addresses the needs of breastfeeding employees\, an
 d practical strategies for implementing nursing support in any business. P
 articipants will also learn about resources available to help employers\, 
 such as free consultations\, policy templates\, recognition awards and mor
 e.
DTSTART;TZID=America/Chicago:20170418T120000
DTEND;TZID=America/Chicago:20170418T130000
LOCATION:
SUMMARY:The Business Case for Breastfeeding Webinar
END:VEVENT
END:VCALENDAR
